BEGIN:VCALENDAR
VERSION:2.0
PRODID:-//Master Gardener Foundation of Yakima County - ECPv6.15.20//NONSGML v1.0//EN
CALSCALE:GREGORIAN
METHOD:PUBLISH
X-ORIGINAL-URL:https://yakima.mastergardenerfoundation.org
X-WR-CALDESC:Events for Master Gardener Foundation of Yakima County
REFRESH-INTERVAL;VALUE=DURATION:PT1H
X-Robots-Tag:noindex
X-PUBLISHED-TTL:PT1H
BEGIN:VTIMEZONE
TZID:America/Los_Angeles
BEGIN:DAYLIGHT
TZOFFSETFROM:-0800
TZOFFSETTO:-0700
TZNAME:PDT
DTSTART:20230312T100000
END:DAYLIGHT
BEGIN:STANDARD
TZOFFSETFROM:-0700
TZOFFSETTO:-0800
TZNAME:PST
DTSTART:20231105T090000
END:STANDARD
BEGIN:DAYLIGHT
TZOFFSETFROM:-0800
TZOFFSETTO:-0700
TZNAME:PDT
DTSTART:20240310T100000
END:DAYLIGHT
BEGIN:STANDARD
TZOFFSETFROM:-0700
TZOFFSETTO:-0800
TZNAME:PST
DTSTART:20241103T090000
END:STANDARD
BEGIN:DAYLIGHT
TZOFFSETFROM:-0800
TZOFFSETTO:-0700
TZNAME:PDT
DTSTART:20250309T100000
END:DAYLIGHT
BEGIN:STANDARD
TZOFFSETFROM:-0700
TZOFFSETTO:-0800
TZNAME:PST
DTSTART:20251102T090000
END:STANDARD
BEGIN:DAYLIGHT
TZOFFSETFROM:-0800
TZOFFSETTO:-0700
TZNAME:PDT
DTSTART:20260308T100000
END:DAYLIGHT
BEGIN:STANDARD
TZOFFSETFROM:-0700
TZOFFSETTO:-0800
TZNAME:PST
DTSTART:20261101T090000
END:STANDARD
END:VTIMEZONE
BEGIN:VEVENT
DTSTART;TZID=America/Los_Angeles:20250820T103000
DTEND;TZID=America/Los_Angeles:20250820T113000
DTSTAMP:20260424T064305
CREATED:20250704T171814Z
LAST-MODIFIED:20250803T185351Z
UID:10001789-1755685800-1755689400@yakima.mastergardenerfoundation.org
SUMMARY:Yakima Program Meeting
DESCRIPTION:This is a regular program meeting of the Yakima Master Gardeners. It is normally held in conjunction with the MG Foundation of Yakima County. This month\, however\, the foundation will not have a meeting.  \nFor your convenience and information\, here is the July Foundation Financial Report. \nIMPORTANT: This meeting will be held at the Yakima County Extension Office.
URL:https://yakima.mastergardenerfoundation.org/event/yakima-program-meeting-2/
LOCATION:Extension Office\, 2403 South 18th Street\, Union Gap\, WA\, 98903\, United States
CATEGORIES:meeting
END:VEVENT
BEGIN:VEVENT
DTSTART;TZID=America/Los_Angeles:20250716T103000
DTEND;TZID=America/Los_Angeles:20250716T113000
DTSTAMP:20260424T064305
CREATED:20250704T171428Z
LAST-MODIFIED:20250704T171639Z
UID:10001788-1752661800-1752665400@yakima.mastergardenerfoundation.org
SUMMARY:Yakima Program Meeting
DESCRIPTION:This is a regular program meeting of the Yakima Master Gardeners. It is normally held in conjunction with the MG Foundation of Yakima County. This month\, however\, the foundation will not have a meeting. For interested members\, the June Foundation Financial report is attached here. \nIMPORTANT: This meeting will be held at the Yakima County Extension Office.\nFoundation Financial report for the month of June.
URL:https://yakima.mastergardenerfoundation.org/event/yakima-program-meeting/
LOCATION:Extension Office\, 2403 South 18th Street\, Union Gap\, WA\, 98903\, United States
CATEGORIES:meeting
END:VEVENT
BEGIN:VEVENT
DTSTART;TZID=America/Los_Angeles:20240214T103000
DTEND;TZID=America/Los_Angeles:20240214T113000
DTSTAMP:20260424T064305
CREATED:20240104T210044Z
LAST-MODIFIED:20240506T184341Z
UID:10000035-1707906600-1707910200@yakima.mastergardenerfoundation.org
SUMMARY:Yakima Foundation Meeting
DESCRIPTION:Minutes of previous meeting will be found in the column to the right. \nMaster-Gardener-Agenda-2-14-24
URL:https://yakima.mastergardenerfoundation.org/event/yakima-foundation-meeting-11/
LOCATION:2403 South 18th Street\, Union Gap\, WA\, 98903\, United States
CATEGORIES:meeting
END:VEVENT
BEGIN:VEVENT
DTSTART;TZID=America/Los_Angeles:20240110T103000
DTEND;TZID=America/Los_Angeles:20240110T113000
DTSTAMP:20260424T064305
CREATED:20240104T205418Z
LAST-MODIFIED:20240506T184328Z
UID:10000034-1704882600-1704886200@yakima.mastergardenerfoundation.org
SUMMARY:Yakima Foundation Meeting
DESCRIPTION:LOCATION THIS WEEK: WSU EXTENSION OFFICE \nMinutes of December meeting can be found in the column to the right.  – – – – – – Agenda  – – – – Budget to Actual. – – – –   Balance Sheet 
URL:https://yakima.mastergardenerfoundation.org/event/yakima-foundation-meeting-10/
LOCATION:2403 South 18th Street\, Union Gap\, WA\, 98903\, United States
CATEGORIES:meeting
END:VEVENT
END:VCALENDAR